BEGIN:VCALENDAR
VERSION:2.0
PRODID:-//Veovo - ECPv4.6.22//NONSGML v1.0//EN
CALSCALE:GREGORIAN
METHOD:PUBLISH
X-WR-CALNAME:Veovo
X-ORIGINAL-URL:https://veovo.com
X-WR-CALDESC:Events for Veovo
BEGIN:VEVENT
DTSTART;VALUE=DATE:20190318
DTEND;VALUE=DATE:20190321
DTSTAMP:20181222T072312
CREATED:20180713T191332Z
LAST-MODIFIED:20180717T190610Z
UID:2274-1552867200-1553126399@veovo.com
SUMMARY:ACI Commercial and Retail\, Iceland
DESCRIPTION:Veovo will be exhibiting on Stand number 41. \nGet in touch with our team. \n
URL:https://veovo.com/event/aci-commercial-and-retail-iceland/
ATTACH;FMTTYPE=image/jpeg:https://veovo.com/wp-content/uploads/2018/07/ACI-Commercial-and-Retail-Iceland.jpg
END:VEVENT
BEGIN:VEVENT
DTSTART;VALUE=DATE:20190326
DTEND;VALUE=DATE:20190329
DTSTAMP:20181222T072312
CREATED:20180713T215458Z
LAST-MODIFIED:20180717T190700Z
UID:2291-1553558400-1553817599@veovo.com
SUMMARY:Passenger Terminal Expo\, London
DESCRIPTION:Veovo will be exhibiting on Stand number 2075. \nGet in touch with our team. \n
URL:https://veovo.com/event/passenger-terminal-expo-london/
ATTACH;FMTTYPE=image/jpeg:https://veovo.com/wp-content/uploads/2018/07/Passengerterminalexpo.jpg
END:VEVENT
END:VCALENDAR